BEGIN:VCALENDAR
VERSION:2.0
CALSCALE:GREGORIAN
METHOD:PUBLISH
PRODID://NEAI//204265
BEGIN:VEVENT
DTSTAMP:20260425T160224
VTIMEZONE:America/New_York
DTSTART:20260122T150000Z
DTEND:20260122T160000Z
UID:204265
SUMMARY:NEAIR Membership Networking Event (January 2026)
LOCATION:Virtual
DESCRIPTION:NEAIR Membership Networking Event (January 2026)\n\n01/22/26 10:00 AM EST\n - 01/22/26 11:00 AM EST\Description:\nJoin us for another NEAIR membership networking event - members at all stages of their career are invited to meet one another and discuss topics from the perspectives of their experiences within IR.\Location:\nVirtual\n\n,
X-ALT-DESC;FMTTYPE=text/html:NEAIR Membership Networking Event (January 2026)<br /><br />01/22/26 10:00 AM EST - 01/22/26 11:00 AM EST<br />Description:<br /><span style="font-size:16px"><span style="font-family:verdana,geneva,sans-serif">Join us for another NEAIR membership networking event - members at all stages of their career are invited to meet one another and discuss topics from the perspectives of their experiences within IR.</span></span><br />Location:<br />Virtual<br /><br />,  
PRIORITY:3
TRANSP:TRANSPARENT
BEGIN:VALARM
TRIGGER:-PT5M
ACTION:DISPLAY
DESCRIPTION:Reminder
END:VALARM
END:VEVENT
END:VCALENDAR
