BEGIN:VCALENDAR
VERSION:2.0
CALSCALE:GREGORIAN
METHOD:PUBLISH
PRODID://NEAI//193318
BEGIN:VEVENT
DTSTAMP:20260425T235143
VTIMEZONE:America/New_York
DTSTART:20251108T133000Z
DTEND:20251111T220000Z
UID:193318
SUMMARY:52nd Annual Conference -- North Bethesda, Maryland 
LOCATION:Bethesda North Marriott Hotel & Conference Center, 5701 Marinelli Road, Rockville, MD, 20852-2785
DESCRIPTION:52nd Annual Conference -- North Bethesda, Maryland \n\n11/08/25 08:30 AM EST\n - 11/11/25 05:00 PM EST\Description:\nThings to Know Before You Register:\nThe NEAIR Annual Conference primarily serves attendees from non-profit institutions and organizations. For-profit entities sending multiple attendees to the conference are expected to sponsor the conference at some level. Please see the Sponsor Prospectus for more information about our sponsor levels and benefits.\n\nIf you are a conference sponsor: \n\n\n	A representative of your organization must first complete the Purchase a 2025 NEAIR Conference Sponsorship Form.  \n	Depending on the level of the conference sponsorship that your organization purchased, complimentary conference registration(s) may be available.\n	Select "Sponsor" as the Member Type when completing your conference registration.\n	Be sure to also book your hotel room, as reservations and rates are based on availability.\n	Print out the confirmation email you receive. It includes your access # should you want to return to the registration form to update any information.\n	Visit the Annual Conference website for information about the program, hotel, travel, refunds and much more.\n\nFor all others:\n\n\n	A current NEAIR membership is required. You can join NEAIR when completing your conference registration.\n	Please use the same email as your NEAIR membership to register so the system can recognize your record.\n	Be sure to also book your hotel room, as reservations and rates are based on availability.\n	Print out the confirmation email you receive. It includes your access # should you want to return to the registration form to update any information.\n	Visit the Annual Conference website for information about the program, hotel, travel, refunds and much more.\n	By registering as a Professional Member, you agree that your participation in the conference is to share and learn about the profession, not to promote or solicit business from other attendees.  Promotion of products and services are restricted to conference sponsors.  You will find information about the benefits of becoming a conference sponsor, including powerful opportunities to showcase company products and to build relationships with NEAIR members, on the Sponsor Page.\n\n\nQuestions?\nContact NEAIR at neair@neair.org.\n\Location:\nBethesda North Marriott Hotel & Conference Center\n5701 Marinelli Road\nRockville, MD 20852-2785
X-ALT-DESC;FMTTYPE=text/html:52nd Annual Conference -- North Bethesda, Maryland <br /><br />11/08/25 08:30 AM EST - 11/11/25 05:00 PM EST<br />Description:<br /><p><span style="font-size:14px"><span style="font-family:verdana,geneva,sans-serif"><strong>Things to Know Before You Register:</strong><br />
The NEAIR Annual Conference primarily serves attendees from non-profit institutions and organizations. For-profit entities sending multiple attendees to the conference are expected to sponsor the conference at some level. Please see the <a href="https://www.neair.org/docs/2025_Sponsor_Prospectus.pdf">Sponsor Prospectus</a> for more information about our sponsor levels and benefits.</span></span><br />
<br />
<span style="font-size:14px"><span style="font-family:verdana,geneva,sans-serif"><strong><u>If you are a conference sponsor</u>: </strong></span></span></p>

<ul>
	<li><span style="font-size:14px"><span style="font-family:verdana,geneva,sans-serif">A representative of your organization must first complete the <a href="https://mms.neair.org/members/evr/reg_event.php?orgcode=NEAI&amp;evid=44436487">Purchase a 2025&nbsp;NEAIR Conference Sponsorship Form</a>.&nbsp;&nbsp;</span></span></li>
	<li><span style="font-size:14px"><span style="font-family:verdana,geneva,sans-serif">Depending on the level of the conference sponsorship that your organization purchased, complimentary conference registration(s) may be available.</span></span></li>
	<li><span style="font-size:14px"><span style="font-family:verdana,geneva,sans-serif">Select &quot;Sponsor&quot; as the Member Type when completing your conference registration.</span></span></li>
	<li><span style="font-size:14px"><span style="font-family:verdana,geneva,sans-serif">Be sure to also book your hotel room, as reservations and rates are based on availability.</span></span></li>
	<li><span style="font-size:14px"><span style="font-family:verdana,geneva,sans-serif">Print out the confirmation email you receive. It includes your access # should you want to return to the registration form to update any information.</span></span></li>
	<li><span style="font-size:14px"><span style="font-family:verdana,geneva,sans-serif">Visit the <strong><a href="https://whova.com/web/-pa8ksZn%40W1cb0i6rSHnInDgwb30R75YBKvVrx7ycDs%3D/">Annual Conference website</a>&nbsp;</strong>for information about the program, hotel, travel, refunds and much more.</span></span></li>
</ul>
<span style="font-size:14px"><span style="font-family:verdana,geneva,sans-serif"><strong><u>For all others:</u></strong></span></span>

<ul>
	<li><span style="line-height:1"><span style="font-size:14px"><span style="font-family:verdana,geneva,sans-serif"><strong>A current NEAIR membership is required</strong>. You can join NEAIR&nbsp;when completing your conference registration.</span></span></span></li>
	<li><span style="line-height:1"><span style="font-size:14px"><span style="font-family:verdana,geneva,sans-serif">Please use the same email as your NEAIR membership to register so the system can recognize your record.</span></span></span></li>
	<li><span style="line-height:1"><span style="font-size:14px"><span style="font-family:verdana,geneva,sans-serif">Be sure to also book your hotel room, as reservations and rates are based on availability.</span></span></span></li>
	<li><span style="line-height:1"><span style="font-size:14px"><span style="font-family:verdana,geneva,sans-serif">Print out the confirmation email you receive. It includes your access # should you want to return to the registration form to update any information.</span></span></span></li>
	<li><span style="line-height:1"><span style="font-size:14px"><span style="font-family:verdana,geneva,sans-serif">Visit the <strong><a href="https://whova.com/web/-pa8ksZn%40W1cb0i6rSHnInDgwb30R75YBKvVrx7ycDs%3D/">Annual Conference website</a>&nbsp;</strong>for information about the program, hotel, travel, refunds and much more.</span></span></span></li>
	<li><span style="line-height:1"><span style="font-size:14px"><span style="font-family:verdana,geneva,sans-serif">By registering as&nbsp;a Professional Member, you agree that your participation in the conference is to share and learn about the profession, not to promote or solicit business from other attendees.&nbsp; Promotion of products and services are restricted to conference sponsors.&nbsp; You will find information about the benefits of becoming a conference sponsor, including powerful opportunities to showcase company products and to build relationships with NEAIR members, on the <strong><a href="https://neair.org/sponsorship_information.php">Sponsor Page</a></strong>.</span></span></span></li>
</ul>

<p><span style="font-size:14px"><span style="font-family:verdana,geneva,sans-serif"><strong>Questions?</strong><br />
Contact NEAIR at neair@neair.org.</span></span></p>
<br />Location:<br />Bethesda North Marriott Hotel & Conference Center<br />5701 Marinelli Road<br />Rockville, MD 20852-2785
PRIORITY:3
TRANSP:TRANSPARENT
BEGIN:VALARM
TRIGGER:-PT5M
ACTION:DISPLAY
DESCRIPTION:Reminder
END:VALARM
END:VEVENT
END:VCALENDAR
